Workbook

Sheet دریافت شهریه
A1: دفتر دریافت شهریهٔ مدرسه — ستون‌های آبی را پر کنید؛ ستون‌های خاکستری خودکار حساب می‌شوند (راهنما در برگهٔ «راهنما»)
A2: ردیف | B2: نام و نام خانوادگی دانش‌آموز | C2: پایه / کلاس | D2: نام ولی | E2: شماره تماس ولی | F2: شهریهٔ مصوب (تومان) | G2: تخفیف (تومان) | H2: قابل پرداخت (تومان) | I2: قسط ۱ — مبلغ | J2: قسط ۱ — تاریخ | K2: قسط ۲ — مبلغ | L2: قسط ۲ — تاریخ | M2: قسط ۳ — مبلغ | N2: قسط ۳ — تاریخ | O2: قسط ۴ — مبلغ | P2: قسط ۴ — تاریخ | Q2: جمع پرداختی (تومان) | R2: مانده (تومان) | S2: وضعیت | T2: توضیحات
A3: =IF(B3="","",ROW()-2) | B3: علی رضایی (ردیف نمونه — پاک کنید) | C3: هفتم ـ ۱ | D3: محمد رضایی | E3: 09120000000 | F3: 18000000 | G3: 1000000 | H3: =IF(F3="","",F3-N(G3)) | I3: 5000000 | J3: ۱۴۰۵/۰۶/۲۰ | K3: 4000000 | L3: ۱۴۰۵/۰۸/۱۵ | Q3: =IF(B3="","",N(I3)+N(K3)+N(M3)+N(O3)) | R3: =IF(H3="","",H3-Q3) | S3: =IF(H3="","",IF(R3<=0,"تسویه",IF(Q3=0,"پرداخت‌نشده","بدهکار"))) | T3: تخفیف خواهر و برادر
A4: =IF(B4="","",ROW()-2) | H4: =IF(F4="","",F4-N(G4)) | Q4: =IF(B4="","",N(I4)+N(K4)+N(M4)+N(O4)) | R4: =IF(H4="","",H4-Q4) | S4: =IF(H4="","",IF(R4<=0,"تسویه",IF(Q4=0,"پرداخت‌نشده","بدهکار")))
A5: =IF(B5="","",ROW()-2) | H5: =IF(F5="","",F5-N(G5)) | Q5: =IF(B5="","",N(I5)+N(K5)+N(M5)+N(O5)) | R5: =IF(H5="","",H5-Q5) | S5: =IF(H5="","",IF(R5<=0,"تسویه",IF(Q5=0,"پرداخت‌نشده","بدهکار")))
A6: =IF(B6="","",ROW()-2) | H6: =IF(F6="","",F6-N(G6)) | Q6: =IF(B6="","",N(I6)+N(K6)+N(M6)+N(O6)) | R6: =IF(H6="","",H6-Q6) | S6: =IF(H6="","",IF(R6<=0,"تسویه",IF(Q6=0,"پرداخت‌نشده","بدهکار")))
A7: =IF(B7="","",ROW()-2) | H7: =IF(F7="","",F7-N(G7)) | Q7: =IF(B7="","",N(I7)+N(K7)+N(M7)+N(O7)) | R7: =IF(H7="","",H7-Q7) | S7: =IF(H7="","",IF(R7<=0,"تسویه",IF(Q7=0,"پرداخت‌نشده","بدهکار")))
A8: =IF(B8="","",ROW()-2) | H8: =IF(F8="","",F8-N(G8)) | Q8: =IF(B8="","",N(I8)+N(K8)+N(M8)+N(O8)) | R8: =IF(H8="","",H8-Q8) | S8: =IF(H8="","",IF(R8<=0,"تسویه",IF(Q8=0,"پرداخت‌نشده","بدهکار")))
A9: =IF(B9="","",ROW()-2) | H9: =IF(F9="","",F9-N(G9)) | Q9: =IF(B9="","",N(I9)+N(K9)+N(M9)+N(O9)) | R9: =IF(H9="","",H9-Q9) | S9: =IF(H9="","",IF(R9<=0,"تسویه",IF(Q9=0,"پرداخت‌نشده","بدهکار")))
A10: =IF(B10="","",ROW()-2) | H10: =IF(F10="","",F10-N(G10)) | Q10: =IF(B10="","",N(I10)+N(K10)+N(M10)+N(O10)) | R10: =IF(H10="","",H10-Q10) | S10: =IF(H10="","",IF(R10<=0,"تسویه",IF(Q10=0,"پرداخت‌نشده","بدهکار")))
A11: =IF(B11="","",ROW()-2) | H11: =IF(F11="","",F11-N(G11)) | Q11: =IF(B11="","",N(I11)+N(K11)+N(M11)+N(O11)) | R11: =IF(H11="","",H11-Q11) | S11: =IF(H11="","",IF(R11<=0,"تسویه",IF(Q11=0,"پرداخت‌نشده","بدهکار")))
A12: =IF(B12="","",ROW()-2) | H12: =IF(F12="","",F12-N(G12)) | Q12: =IF(B12="","",N(I12)+N(K12)+N(M12)+N(O12)) | R12: =IF(H12="","",H12-Q12) | S12: =IF(H12="","",IF(R12<=0,"تسویه",IF(Q12=0,"پرداخت‌نشده","بدهکار")))
A13: =IF(B13="","",ROW()-2) | H13: =IF(F13="","",F13-N(G13)) | Q13: =IF(B13="","",N(I13)+N(K13)+N(M13)+N(O13)) | R13: =IF(H13="","",H13-Q13) | S13: =IF(H13="","",IF(R13<=0,"تسویه",IF(Q13=0,"پرداخت‌نشده","بدهکار")))
A14: =IF(B14="","",ROW()-2) | H14: =IF(F14="","",F14-N(G14)) | Q14: =IF(B14="","",N(I14)+N(K14)+N(M14)+N(O14)) | R14: =IF(H14="","",H14-Q14) | S14: =IF(H14="","",IF(R14<=0,"تسویه",IF(Q14=0,"پرداخت‌نشده","بدهکار")))
A15: =IF(B15="","",ROW()-2) | H15: =IF(F15="","",F15-N(G15)) | Q15: =IF(B15="","",N(I15)+N(K15)+N(M15)+N(O15)) | R15: =IF(H15="","",H15-Q15) | S15: =IF(H15="","",IF(R15<=0,"تسویه",IF(Q15=0,"پرداخت‌نشده","بدهکار")))
... A202: =IF(B202="","",ROW()-2) | H202: =IF(F202="","",F202-N(G202)) | Q202: =IF(B202="","",N(I202)+N(K202)+N(M202)+N(O202)) | R202: =IF(H202="","",H202-Q202) | S202: =IF(H202="","",IF(R202<=0,"تسویه",IF(Q202=0,"پرداخت‌نشده","بدهکار")))

Sheet خلاصه
A1: خلاصهٔ وضعیت شهریه
A2: تعداد دانش‌آموزان ثبت‌شده | B2: =COUNTA('دریافت شهریه'!B3:B202)
A3: جمع شهریهٔ قابل پرداخت (تومان) | B3: =SUM('دریافت شهریه'!H3:H202)
A4: جمع دریافتی (تومان) | B4: =SUM('دریافت شهریه'!Q3:Q202)
A5: جمع مانده (تومان) | B5: =SUM('دریافت شهریه'!R3:R202)
A6: درصد وصول | B6: =IF(B3=0,0,B4/B3)
A7: تعداد تسویه‌شده | B7: =COUNTIF('دریافت شهریه'!S3:S202,"تسویه")
A8: تعداد بدهکار | B8: =COUNTIF('دریافت شهریه'!S3:S202,"بدهکار")
A9: تعداد پرداخت‌نشده | B9: =COUNTIF('دریافت شهریه'!S3:S202,"پرداخت‌نشده")
A11: تمام اعداد این برگه از برگهٔ «دریافت شهریه» محاسبه می‌شوند؛ چیزی را این‌جا تایپ نکنید.

Sheet راهنما
A1: راهنمای فایل اکسل دریافت شهریهٔ مدرسه
A2: ۱. در برگهٔ «دریافت شهریه» برای هر دانش‌آموز یک ردیف پر کنید. ستون‌هایی که سرتیتر آبی دارند ورودی شما هستند (متن آبی).
A3: ۲. ستون‌های خاکستری — ردیف، قابل پرداخت، جمع پرداختی، مانده و وضعیت — با فرمول حساب می‌شوند؛ آن‌ها را تایپ یا پاک نکنید.
A4: ۳. همهٔ مبلغ‌ها به تومان و بدون جداکننده تایپ شوند (مثلاً 18000000). تاریخ‌ها شمسی و متنی باشند، مثلاً ۱۴۰۵/۰۷/۰۱.
A5: ۴. «قابل پرداخت» = شهریهٔ مصوب منهای تخفیف. «مانده» = قابل پرداخت منهای جمع چهار قسط.
A6: ۵. «وضعیت» خودکار است: تسویه (مانده صفر یا کمتر)، بدهکار (بخشی پرداخت شده)، پرداخت‌نشده (هیچ قسطی ثبت نشده).
A7: ۶. ردیف سوم یک نمونه است (زمینهٔ زرد). مقادیر آبی آن را با اطلاعات واقعی جایگزین یا پاک کنید.
A8: ۷. فایل برای ۲۰۰ دانش‌آموز آماده است؛ برای بیشتر، آخرین ردیف را کپی و به پایین بکشید تا فرمول‌ها هم کپی شوند.
A9: ۸. برگهٔ «خلاصه» تعداد دانش‌آموزان، جمع دریافتی، جمع مانده، درصد وصول و تعداد بدهکاران را نشان می‌دهد.
A11: محدودیت‌های اکسل: یک فایل مشترک برای چند نفر، بدون سابقهٔ تغییرات و بدون اتصال به نمرات، حضور و غیاب یا ارتباط با والدین.
A12: در پارس آموز همین کار در «مالی و حسابداری» انجام می‌شود: حساب بدهکار و بستانکار هر دانش‌آموز، دسته‌بندی تراکنش (شهریه، کتاب، آزمون، غذا)، ثبت گروهی و گزارش مانده.
A13: تهیه‌شده توسط پارس آموز — farsamooz.ir — استفاده و ویرایش این فایل برای مدارس آزاد و رایگان است.
